BEGIN:VCALENDAR
VERSION:2.0
PRODID:spatie/icalendar-generator
DESCRIPTION:Events from Seido Karate Devonport
X-WR-CALDESC:Events from Seido Karate Devonport
REFRESH-INTERVAL;VALUE=DURATION:PT1440M
X-PUBLISHED-TTL:PT1440M
BEGIN:VTIMEZONE
TZID:Etc/GMT+0
BEGIN:STANDARD
DTSTART:20250320T180000Z
TZOFFSETFROM:+0000
TZOFFSETTO:+0000
END:STANDARD
END:VTIMEZONE
BEGIN:VTIMEZONE
TZID:UTC
BEGIN:STANDARD
DTSTART:20250724T044810Z
TZOFFSETFROM:+0000
TZOFFSETTO:+0000
END:STANDARD
END:VTIMEZONE
BEGIN:VEVENT
UID:20-19
DTSTAMP:20260420T044810Z
SUMMARY:End of Year/Term Class
LOCATION:
ORGANIZER;CN=Shane Mason:MAILTO:shhane@gmail.com
DTSTART;TZID=Etc/GMT+0:20251215T180000
DTEND;TZID=Etc/GMT+0:20251215T193000
X-ALT-DESC;FMTTYPE=TEXT/HTML:
CATEGORIES:General
URL;VALUE=URI:https://seidokarate.co.nz/mc-events/end-of-year-term-class/
METHOD:PUBLISH
END:VEVENT
END:VCALENDAR