BEGIN:VCALENDAR
VERSION:2.0
PRODID:spatie/icalendar-generator
DESCRIPTION:Events from Seido Karate Devonport
X-WR-CALDESC:Events from Seido Karate Devonport
REFRESH-INTERVAL;VALUE=DURATION:PT1440M
X-PUBLISHED-TTL:PT1440M
BEGIN:VTIMEZONE
TZID:Etc/GMT+0
BEGIN:STANDARD
DTSTART:20250826T090000Z
TZOFFSETFROM:+0000
TZOFFSETTO:+0000
END:STANDARD
END:VTIMEZONE
BEGIN:VTIMEZONE
TZID:UTC
BEGIN:STANDARD
DTSTART:20250724T072431Z
TZOFFSETFROM:+0000
TZOFFSETTO:+0000
END:STANDARD
END:VTIMEZONE
BEGIN:VEVENT
UID:22-21
DTSTAMP:20260420T072431Z
SUMMARY:Wellington Tournament
LOCATION:
ORGANIZER;CN=Shane Mason:MAILTO:shhane@gmail.com
DTSTART;TZID=Etc/GMT+0:20260523T090000
DTEND;TZID=Etc/GMT+0:20260524T150000
X-ALT-DESC;FMTTYPE=TEXT/HTML:
CATEGORIES:General
URL;VALUE=URI:https://seidokarate.co.nz/mc-events/wellington-tournament/
METHOD:PUBLISH
END:VEVENT
END:VCALENDAR