BEGIN:VCALENDAR
VERSION:2.0
PRODID:spatie/icalendar-generator
DESCRIPTION:Events from Seido Karate Devonport
X-WR-CALDESC:Events from Seido Karate Devonport
REFRESH-INTERVAL;VALUE=DURATION:PT1440M
X-PUBLISHED-TTL:PT1440M
BEGIN:VTIMEZONE
TZID:Etc/GMT+0
BEGIN:STANDARD
DTSTART:20250313T180000Z
TZOFFSETFROM:+0000
TZOFFSETTO:+0000
END:STANDARD
END:VTIMEZONE
BEGIN:VTIMEZONE
TZID:UTC
BEGIN:STANDARD
DTSTART:20250724T072421Z
TZOFFSETFROM:+0000
TZOFFSETTO:+0000
END:STANDARD
END:VTIMEZONE
BEGIN:VEVENT
UID:19-18
DTSTAMP:20260420T072421Z
SUMMARY:End Year Adult Grading
LOCATION:
ORGANIZER;CN=Shane Mason:MAILTO:shhane@gmail.com
DTSTART;TZID=Etc/GMT+0:20251208T180000
DTEND;TZID=Etc/GMT+0:20251208T193000
X-ALT-DESC;FMTTYPE=TEXT/HTML:
CATEGORIES:General
URL;VALUE=URI:https://seidokarate.co.nz/mc-events/end-year-adult-grading/
METHOD:PUBLISH
END:VEVENT
END:VCALENDAR