BEGIN:VCALENDAR
VERSION:2.0
PRODID:spatie/icalendar-generator
DESCRIPTION:Events from Seido Karate Devonport
X-WR-CALDESC:Events from Seido Karate Devonport
REFRESH-INTERVAL;VALUE=DURATION:PT1440M
X-PUBLISHED-TTL:PT1440M
BEGIN:VTIMEZONE
TZID:Etc/GMT+0
BEGIN:STANDARD
DTSTART:20250826T083300Z
TZOFFSETFROM:+0000
TZOFFSETTO:+0000
END:STANDARD
END:VTIMEZONE
BEGIN:VTIMEZONE
TZID:UTC
BEGIN:STANDARD
DTSTART:20250724T071421Z
TZOFFSETFROM:+0000
TZOFFSETTO:+0000
END:STANDARD
END:VTIMEZONE
BEGIN:VEVENT
UID:21-20
DTSTAMP:20260420T071421Z
SUMMARY:North Island Tournament - Wellington
LOCATION:
ORGANIZER;CN=Shane Mason:MAILTO:shhane@gmail.com
DTSTART;TZID=Etc/GMT+0:20260523T083300
DTEND;TZID=Etc/GMT+0:20260524T093300
X-ALT-DESC;FMTTYPE=TEXT/HTML:
CATEGORIES:General
URL;VALUE=URI:https://seidokarate.co.nz/mc-events/north-island-tournament-w
 ellington/
METHOD:PUBLISH
END:VEVENT
END:VCALENDAR