BEGIN:VCALENDAR
VERSION:2.0
PRODID:spatie/icalendar-generator
DESCRIPTION:Events from Seido Karate Devonport
X-WR-CALDESC:Events from Seido Karate Devonport
REFRESH-INTERVAL;VALUE=DURATION:PT1440M
X-PUBLISHED-TTL:PT1440M
BEGIN:VTIMEZONE
TZID:Etc/GMT+0
BEGIN:STANDARD
DTSTART:20250805T090100Z
TZOFFSETFROM:+0000
TZOFFSETTO:+0000
END:STANDARD
END:VTIMEZONE
BEGIN:VTIMEZONE
TZID:UTC
BEGIN:STANDARD
DTSTART:20250724T032732Z
TZOFFSETFROM:+0000
TZOFFSETTO:+0000
END:STANDARD
END:VTIMEZONE
BEGIN:VEVENT
UID:24-23
DTSTAMP:20260420T032732Z
SUMMARY:Black Belt Grading - Tauranga
LOCATION:
ORGANIZER;CN=Shane Mason:MAILTO:shhane@gmail.com
DTSTART;TZID=Etc/GMT+0:20260502T090100
DTEND;TZID=Etc/GMT+0:20260502T130000
X-ALT-DESC;FMTTYPE=TEXT/HTML:
CATEGORIES:General
URL;VALUE=URI:https://seidokarate.co.nz/mc-events/black-belt-grading-tauran
 ga/
METHOD:PUBLISH
END:VEVENT
END:VCALENDAR